BEGIN:VCALENDAR
VERSION:2.0
PRODID:-//Netball America® - ECPv6.15.20//NONSGML v1.0//EN
CALSCALE:GREGORIAN
METHOD:PUBLISH
X-ORIGINAL-URL:https://netballamerica.com
X-WR-CALDESC:Events for Netball America®
REFRESH-INTERVAL;VALUE=DURATION:PT1H
X-Robots-Tag:noindex
X-PUBLISHED-TTL:PT1H
BEGIN:VTIMEZONE
TZID:America/Denver
BEGIN:DAYLIGHT
TZOFFSETFROM:-0700
TZOFFSETTO:-0600
TZNAME:MDT
DTSTART:20250309T090000
END:DAYLIGHT
BEGIN:STANDARD
TZOFFSETFROM:-0600
TZOFFSETTO:-0700
TZNAME:MST
DTSTART:20251102T080000
END:STANDARD
BEGIN:DAYLIGHT
TZOFFSETFROM:-0700
TZOFFSETTO:-0600
TZNAME:MDT
DTSTART:20260308T090000
END:DAYLIGHT
BEGIN:STANDARD
TZOFFSETFROM:-0600
TZOFFSETTO:-0700
TZNAME:MST
DTSTART:20261101T080000
END:STANDARD
BEGIN:DAYLIGHT
TZOFFSETFROM:-0700
TZOFFSETTO:-0600
TZNAME:MDT
DTSTART:20270314T090000
END:DAYLIGHT
BEGIN:STANDARD
TZOFFSETFROM:-0600
TZOFFSETTO:-0700
TZNAME:MST
DTSTART:20271107T080000
END:STANDARD
END:VTIMEZONE
BEGIN:VTIMEZONE
TZID:America/Chicago
BEGIN:DAYLIGHT
TZOFFSETFROM:-0600
TZOFFSETTO:-0500
TZNAME:CDT
DTSTART:20250309T080000
END:DAYLIGHT
BEGIN:STANDARD
TZOFFSETFROM:-0500
TZOFFSETTO:-0600
TZNAME:CST
DTSTART:20251102T070000
END:STANDARD
BEGIN:DAYLIGHT
TZOFFSETFROM:-0600
TZOFFSETTO:-0500
TZNAME:CDT
DTSTART:20260308T080000
END:DAYLIGHT
BEGIN:STANDARD
TZOFFSETFROM:-0500
TZOFFSETTO:-0600
TZNAME:CST
DTSTART:20261101T070000
END:STANDARD
BEGIN:DAYLIGHT
TZOFFSETFROM:-0600
TZOFFSETTO:-0500
TZNAME:CDT
DTSTART:20270314T080000
END:DAYLIGHT
BEGIN:STANDARD
TZOFFSETFROM:-0500
TZOFFSETTO:-0600
TZNAME:CST
DTSTART:20271107T070000
END:STANDARD
END:VTIMEZONE
BEGIN:VEVENT
DTSTART;TZID=America/Denver:20260603T080000
DTEND;TZID=America/Denver:20260604T170000
DTSTAMP:20260423T133858
CREATED:20260409T201744Z
LAST-MODIFIED:20260409T201744Z
UID:1604-1780473600-1780592400@netballamerica.com
SUMMARY:Netball America Presenting at the Colorado Health & PE Convention
DESCRIPTION:Netball America has been invited to present in person professional development sessions at the Colorado Health & PE Convention.\nIf you want to become trained as a presenter please email Nathalie@NetballAmerica.com.
URL:https://netballamerica.com/calendar/netball-america-presenting-at-the-colorado-health-pe-convention/
LOCATION:High School Conference Hall\, Aurora\, Colorado
CATEGORIES:Coach Training,Teachers Professional Development
ATTACH;FMTTYPE=image/jpeg:https://netballamerica.com/wp-content/uploads/2024/11/Orange-county-Florida_Presentation.jpg
END:VEVENT
BEGIN:VEVENT
DTSTART;TZID=America/Chicago:20260627T090000
DTEND;TZID=America/Chicago:20260627T180000
DTSTAMP:20260423T133858
CREATED:20260421T143530Z
LAST-MODIFIED:20260421T143530Z
UID:1637-1782550800-1782583200@netballamerica.com
SUMMARY:Chicago Netball Tournament
DESCRIPTION:🏐 CHICAGO TOURNAMENT – REGISTER NOW 🏐\nIt’s officially time to gear up for the Chicago Tournament!  Proud to support our Netball America members. \n📍 UIC Student Recreation Center – Chicago\nWe’re expecting an exciting mix of ladies & mixed teams\, with a round-robin format so everyone gets maximum game time 🙌\nWhether you’re coming with a team or signing up solo\, this is your moment to get on court\, compete\, and have fun 🔥\n👉 Spots are filling — don’t wait!\nRegister now – visit https://www.facebook.com/chicagonetballclub
URL:https://netballamerica.com/calendar/chicago-netball-tournament/
LOCATION:UIC Student Recreation Facility\, 737 S Halsted Street\, Chicago\, IL\, 60607\, United States
CATEGORIES:Netball Tournaments
ATTACH;FMTTYPE=image/jpeg:https://netballamerica.com/wp-content/uploads/2024/10/chicago-netball-club-logo.jpg
ORGANIZER;CN="Chicago Netball":MAILTO:chicago.netball@gmail.com
END:VEVENT
END:VCALENDAR