BEGIN:VCALENDAR
VERSION:2.0
PRODID:-//Netball America® - ECPv6.15.20//NONSGML v1.0//EN
CALSCALE:GREGORIAN
METHOD:PUBLISH
X-ORIGINAL-URL:https://netballamerica.com
X-WR-CALDESC:Events for Netball America®
REFRESH-INTERVAL;VALUE=DURATION:PT1H
X-Robots-Tag:noindex
X-PUBLISHED-TTL:PT1H
BEGIN:VTIMEZONE
TZID:America/Los_Angeles
BEGIN:DAYLIGHT
TZOFFSETFROM:-0800
TZOFFSETTO:-0700
TZNAME:PDT
DTSTART:20240310T100000
END:DAYLIGHT
BEGIN:STANDARD
TZOFFSETFROM:-0700
TZOFFSETTO:-0800
TZNAME:PST
DTSTART:20241103T090000
END:STANDARD
BEGIN:DAYLIGHT
TZOFFSETFROM:-0800
TZOFFSETTO:-0700
TZNAME:PDT
DTSTART:20250309T100000
END:DAYLIGHT
BEGIN:STANDARD
TZOFFSETFROM:-0700
TZOFFSETTO:-0800
TZNAME:PST
DTSTART:20251102T090000
END:STANDARD
BEGIN:DAYLIGHT
TZOFFSETFROM:-0800
TZOFFSETTO:-0700
TZNAME:PDT
DTSTART:20260308T100000
END:DAYLIGHT
BEGIN:STANDARD
TZOFFSETFROM:-0700
TZOFFSETTO:-0800
TZNAME:PST
DTSTART:20261101T090000
END:STANDARD
END:VTIMEZONE
BEGIN:VTIMEZONE
TZID:Asia/Katmandu
BEGIN:STANDARD
TZOFFSETFROM:+0545
TZOFFSETTO:+0545
TZNAME:+0545
DTSTART:20240101T000000
END:STANDARD
END:VTIMEZONE
BEGIN:VEVENT
DTSTART;TZID=America/Los_Angeles:20250906T120000
DTEND;TZID=America/Los_Angeles:20250906T140000
DTSTAMP:20260423T134514
CREATED:20250830T223156Z
LAST-MODIFIED:20250830T223255Z
UID:1437-1757160000-1757167200@netballamerica.com
SUMMARY:Hayward Netball California Launch!
DESCRIPTION:Hayward Netball California Launches!\nCome and play Netball in Hayward California!  Netball is the original women’s basketball however there is no backboard\, no dribbling and no ball hogs!\nCheck out this 2 minute intro to Netball. \nThis event is open to all genders and ability levels.\nNetball America is the largest Netball association in the USA.
URL:https://netballamerica.com/calendar/hayward-netball-california-launch/
LOCATION:House of Hustle\, 3532 Arden Road\, Hayward\, CA\, 94545\, United States
CATEGORIES:Community Event,Netball Training,Youth Netball Development
ATTACH;FMTTYPE=image/png:https://netballamerica.com/wp-content/uploads/2025/08/Hayward-Netball-Launch-Sept-6.png
END:VEVENT
BEGIN:VEVENT
DTSTART;VALUE=DATE:20250930
DTEND;VALUE=DATE:20251001
DTSTAMP:20260423T134514
CREATED:20250701T014715Z
LAST-MODIFIED:20250701T014715Z
UID:1405-1759190400-1759276799@netballamerica.com
SUMMARY:U.S. Open Netball Championships Hotel Registration Closes
DESCRIPTION:The hotel registration closes on this date\, unless the rooms are sold out prior.  Be sure to get in quick to get the room and hotel you want. \nWe’ve organize 4 amazing hotels at a heavily discounted rates and great benefits\, including free breakfast.  All across the street from the venue! \nBook here.\nFor more information go to USOpenNetball.com.
URL:https://netballamerica.com/calendar/u-s-open-netball-championships-hotel-registration-closes/
LOCATION:CA
CATEGORIES:Tournament Hotel
ATTACH;FMTTYPE=image/jpeg:https://netballamerica.com/wp-content/uploads/2025/07/usopen2.jpg
END:VEVENT
END:VCALENDAR