BEGIN:VCALENDAR
VERSION:2.0
PRODID:-//Netball America® - ECPv6.15.20//NONSGML v1.0//EN
CALSCALE:GREGORIAN
METHOD:PUBLISH
X-ORIGINAL-URL:https://netballamerica.com
X-WR-CALDESC:Events for Netball America®
REFRESH-INTERVAL;VALUE=DURATION:PT1H
X-Robots-Tag:noindex
X-PUBLISHED-TTL:PT1H
BEGIN:VTIMEZONE
TZID:America/Los_Angeles
BEGIN:DAYLIGHT
TZOFFSETFROM:-0800
TZOFFSETTO:-0700
TZNAME:PDT
DTSTART:20250309T100000
END:DAYLIGHT
BEGIN:STANDARD
TZOFFSETFROM:-0700
TZOFFSETTO:-0800
TZNAME:PST
DTSTART:20251102T090000
END:STANDARD
BEGIN:DAYLIGHT
TZOFFSETFROM:-0800
TZOFFSETTO:-0700
TZNAME:PDT
DTSTART:20260308T100000
END:DAYLIGHT
BEGIN:STANDARD
TZOFFSETFROM:-0700
TZOFFSETTO:-0800
TZNAME:PST
DTSTART:20261101T090000
END:STANDARD
BEGIN:DAYLIGHT
TZOFFSETFROM:-0800
TZOFFSETTO:-0700
TZNAME:PDT
DTSTART:20270314T100000
END:DAYLIGHT
BEGIN:STANDARD
TZOFFSETFROM:-0700
TZOFFSETTO:-0800
TZNAME:PST
DTSTART:20271107T090000
END:STANDARD
END:VTIMEZONE
BEGIN:VEVENT
DTSTART;TZID=America/Los_Angeles:20260523T090000
DTEND;TZID=America/Los_Angeles:20260523T160000
DTSTAMP:20260421T212230
CREATED:20260421T125319Z
LAST-MODIFIED:20260421T132945Z
UID:1629-1779526800-1779552000@netballamerica.com
SUMMARY:International Netball Festival - Los Angeles
DESCRIPTION:Registration for International Day 2026 is now open! \nCelebrate our amazing cultures\, while supporting the Be An Inspiration Youth Netball program. \nGet ready to swap your club colors for your country’s pride – it’s time for International Day! 🇦🇺🇳🇿🇯🇲🇬🇧🇿🇦🇺🇲\nWhether you’re repping your roots or just love an excuse to wear your country’s colors loud and proud\, we’d love for you to join us for a day of fun in the sun at our courts in Carson\, CA.\nThis is a mixed tournament where you play for your COUNTRY and not for your club. Teams will be a blend of players from various clubs. Kindly pass this information along to members of your club or anyone that you know would be interested in playing!\nTournament Details \nFee: $25 per player\nInstructions & Deadlines\n1) Sign up for the tournament using below link. The final deadline to sign up is May 11.\n2) State your country of allegiance\, in order of preference. You may list multiple. We’ll try our best to place you in your top choice\, but teams will be dependent on numbers per country/region.\n3) LA Waves T&E Committee will sort you into a team. Teams will be announced before the end of day May 16\, 2025\nPlease note that EACH PLAYER must complete and submit their own registration form in the link provided or by a parent / guardian of each player under 18.\nPlayers must be at least 14 in order to play. \nTeams will be announced by May 16\, 2025 (subject to change depending on how many have signed up). Once teams are announced\, you will be put in contact with each other to figure out your team costume\, team captain and team strategies! As a note – we’ll try our hardest to place you by your preference / most preferred region\, but it will all be dependent on participation and numbers available to allocate teams.  \nUmpiring\nEach team will be required to provide at least 1 umpire. In the form we will ask you if you are willing to umpire (when you are not playing). Please help if you are able – we need as many umpires as possible to help run the tournament smoothly! \nDEDICATED UMPIRE – Please let us know if you would like to only umpire during the tournament. We will provide dedicated umpires a $50 gift card as a token of our appreciation! Please also sign up using this same LINK. \nPayment Information (for Players Only)\nPlease submit payment upon completing the Google Form. The fee is $25 per player.\nFor Waves members\, your fee is covered by your membership.  \n1) We prefer payment via Venmo. Please make sure to state the full name of the player participating when paying via Venmo to @LAWaves
URL:https://netballamerica.com/calendar/international-netball-festival-los-angeles/
LOCATION:Victoria Park Netball Courts\, 419 E 192nd Street\, Carson\, CA\, 90746\, United States
ATTACH;FMTTYPE=image/jpeg:https://netballamerica.com/wp-content/uploads/2026/04/international-day_2026.jpg
END:VEVENT
END:VCALENDAR