BEGIN:VCALENDAR
VERSION:2.0
PRODID:-//Netball America® - ECPv6.15.20//NONSGML v1.0//EN
CALSCALE:GREGORIAN
METHOD:PUBLISH
X-WR-CALNAME:Netball America®
X-ORIGINAL-URL:https://netballamerica.com
X-WR-CALDESC:Events for Netball America®
REFRESH-INTERVAL;VALUE=DURATION:PT1H
X-Robots-Tag:noindex
X-PUBLISHED-TTL:PT1H
BEGIN:VTIMEZONE
TZID:Asia/Katmandu
BEGIN:STANDARD
TZOFFSETFROM:+0545
TZOFFSETTO:+0545
TZNAME:+0545
DTSTART:20230101T000000
END:STANDARD
END:VTIMEZONE
BEGIN:VEVENT
DTSTART;VALUE=DATE:20241018
DTEND;VALUE=DATE:20241019
DTSTAMP:20260420T025633
CREATED:20241018T111420Z
LAST-MODIFIED:20241018T111420Z
UID:1191-1729209600-1729295999@netballamerica.com
SUMMARY:Mississippi Netball Teachers Event
DESCRIPTION:Netball America introducing Netball into a new state – Mississippi!  The public school teachers are going to love Netball.\nEmail info@netballamerica.com and learn how to become a teacher ambassador.
URL:https://netballamerica.com/calendar/mississippi-netball-teachers-event/
LOCATION:SC
CATEGORIES:Teachers Professional Development
ATTACH;FMTTYPE=image/jpeg:https://netballamerica.com/wp-content/uploads/2024/06/IMG_3745.jpg
END:VEVENT
END:VCALENDAR