BEGIN:VCALENDAR
VERSION:2.0
PRODID:-//Netball America® - ECPv6.15.20//NONSGML v1.0//EN
CALSCALE:GREGORIAN
METHOD:PUBLISH
X-ORIGINAL-URL:https://netballamerica.com
X-WR-CALDESC:Events for Netball America®
REFRESH-INTERVAL;VALUE=DURATION:PT1H
X-Robots-Tag:noindex
X-PUBLISHED-TTL:PT1H
BEGIN:VTIMEZONE
TZID:Asia/Katmandu
BEGIN:STANDARD
TZOFFSETFROM:+0545
TZOFFSETTO:+0545
TZNAME:+0545
DTSTART:20230101T000000
END:STANDARD
END:VTIMEZONE
BEGIN:VEVENT
DTSTART;VALUE=DATE:20240813
DTEND;VALUE=DATE:20240815
DTSTAMP:20260421T021449
CREATED:20240813T003755Z
LAST-MODIFIED:20240814T005856Z
UID:1050-1723507200-1723679999@netballamerica.com
SUMMARY:Netball Tulsa Teachers Event
DESCRIPTION:Netball America’s Net Together program now heading to Tulsa\, Oklahoma. They will learn how to implement the globally popular sport of Netball into their curriculum.\nEmail Info@NetballAmerica.com to learn how to become a teacher ambassador.
URL:https://netballamerica.com/calendar/netball-tulsa-teachers-event/
LOCATION:SC
CATEGORIES:Teachers Professional Development
ATTACH;FMTTYPE=image/jpeg:https://netballamerica.com/wp-content/uploads/2024/06/IMG_3745.jpg
END:VEVENT
END:VCALENDAR