BEGIN:VCALENDAR
VERSION:2.0
PRODID:-//Netball America® - ECPv6.15.20//NONSGML v1.0//EN
CALSCALE:GREGORIAN
METHOD:PUBLISH
X-ORIGINAL-URL:https://netballamerica.com
X-WR-CALDESC:Events for Netball America®
REFRESH-INTERVAL;VALUE=DURATION:PT1H
X-Robots-Tag:noindex
X-PUBLISHED-TTL:PT1H
BEGIN:VTIMEZONE
TZID:America/Los_Angeles
BEGIN:DAYLIGHT
TZOFFSETFROM:-0800
TZOFFSETTO:-0700
TZNAME:PDT
DTSTART:20250309T100000
END:DAYLIGHT
BEGIN:STANDARD
TZOFFSETFROM:-0700
TZOFFSETTO:-0800
TZNAME:PST
DTSTART:20251102T090000
END:STANDARD
BEGIN:DAYLIGHT
TZOFFSETFROM:-0800
TZOFFSETTO:-0700
TZNAME:PDT
DTSTART:20260308T100000
END:DAYLIGHT
BEGIN:STANDARD
TZOFFSETFROM:-0700
TZOFFSETTO:-0800
TZNAME:PST
DTSTART:20261101T090000
END:STANDARD
BEGIN:DAYLIGHT
TZOFFSETFROM:-0800
TZOFFSETTO:-0700
TZNAME:PDT
DTSTART:20270314T100000
END:DAYLIGHT
BEGIN:STANDARD
TZOFFSETFROM:-0700
TZOFFSETTO:-0800
TZNAME:PST
DTSTART:20271107T090000
END:STANDARD
END:VTIMEZONE
BEGIN:VTIMEZONE
TZID:Asia/Katmandu
BEGIN:STANDARD
TZOFFSETFROM:+0545
TZOFFSETTO:+0545
TZNAME:+0545
DTSTART:20250101T000000
END:STANDARD
END:VTIMEZONE
BEGIN:VEVENT
DTSTART;TZID=America/Los_Angeles:20260822T083000
DTEND;TZID=America/Los_Angeles:20260822T170000
DTSTAMP:20260423T125514
CREATED:20260421T134847Z
LAST-MODIFIED:20260421T140625Z
UID:1634-1787387400-1787418000@netballamerica.com
SUMMARY:Vancouver Comets Netball Mixed Tournament
DESCRIPTION:Join us for the largest mixed netball event in Canada!  Netball America proudly support our member events. \nThe 2026 Tournament will be held on August 22\, 2026 at the UBC Student Recreation Center and will be followed by a prize-giving event.  \nThis event is open to individuals and teams.
URL:https://netballamerica.com/calendar/vancouver-comets-netball-mixed-tournament/
LOCATION:University of British Colombia\, Vancouver\, British Colombia\, Canada
CATEGORIES:Netball Tournaments
ATTACH;FMTTYPE=image/jpeg:https://netballamerica.com/wp-content/uploads/2024/05/Vancouver-Comets-Netball-Logo-1-1024x379-1.jpg
ORGANIZER;CN="Vancouver Comets":MAILTO:cometsnetballns@gmail.com
END:VEVENT
BEGIN:VEVENT
DTSTART;VALUE=DATE:20261102
DTEND;VALUE=DATE:20261110
DTSTAMP:20260423T125514
CREATED:20260412T011308Z
LAST-MODIFIED:20260412T011308Z
UID:1608-1793577600-1794268799@netballamerica.com
SUMMARY:U.S. Open Hotels for Booking
DESCRIPTION:Please support www.USOpenNetball.com by booking into one of our Las Vegas hotels for the Championships.\nhttps://www.usopennetball.com/book-hotel
URL:https://netballamerica.com/calendar/u-s-open-hotels-for-booking/
LOCATION:IL
ATTACH;FMTTYPE=image/jpeg:https://netballamerica.com/wp-content/uploads/2026/04/NA-ball-checking-into-the-main-championships-hotel-rotated.jpeg
END:VEVENT
BEGIN:VEVENT
DTSTART;TZID=America/Los_Angeles:20261106T150000
DTEND;TZID=America/Los_Angeles:20261108T170000
DTSTAMP:20260423T125514
CREATED:20260117T044739Z
LAST-MODIFIED:20260117T044816Z
UID:1548-1793977200-1794157200@netballamerica.com
SUMMARY:The 2026 U.S. Open Netball Championships®
DESCRIPTION:Welcome to the largest event not only in the USA but in North America.  Email USOpen@NetballAmerica.com to apply to participate.  This event will see 32 teams from across the USA\, Canada\, Caribbean\, Cayman Islands\, Australia and the UK etc. compete for the mixed or ladies U.S. Open Championships title!!
URL:https://netballamerica.com/calendar/the-2026-u-s-open-netball-championships/
LOCATION:Las Vegas\, Nevada\, Las Vegas\, Nevada\, United States
CATEGORIES:Athlete Development,Coach Training,Community Event,Netball Tournaments,Netball Training
ATTACH;FMTTYPE=image/png:https://netballamerica.com/wp-content/uploads/2026/01/2026-US-Open-Logo-1.png
END:VEVENT
BEGIN:VEVENT
DTSTART;VALUE=DATE:20261126
DTEND;VALUE=DATE:20261128
DTSTAMP:20260423T125514
CREATED:20260117T045237Z
LAST-MODIFIED:20260117T045237Z
UID:1552-1795651200-1795823999@netballamerica.com
SUMMARY:Thanksgiving Public Holiday
DESCRIPTION:
URL:https://netballamerica.com/calendar/thanksgiving-public-holiday/
LOCATION:IL
END:VEVENT
END:VCALENDAR