BEGIN:VCALENDAR
VERSION:2.0
PRODID:-//Netball America® - ECPv6.15.20//NONSGML v1.0//EN
CALSCALE:GREGORIAN
METHOD:PUBLISH
X-WR-CALNAME:Netball America®
X-ORIGINAL-URL:https://netballamerica.com
X-WR-CALDESC:Events for Netball America®
REFRESH-INTERVAL;VALUE=DURATION:PT1H
X-Robots-Tag:noindex
X-PUBLISHED-TTL:PT1H
BEGIN:VTIMEZONE
TZID:America/New_York
BEGIN:DAYLIGHT
TZOFFSETFROM:-0500
TZOFFSETTO:-0400
TZNAME:EDT
DTSTART:20250309T070000
END:DAYLIGHT
BEGIN:STANDARD
TZOFFSETFROM:-0400
TZOFFSETTO:-0500
TZNAME:EST
DTSTART:20251102T060000
END:STANDARD
BEGIN:DAYLIGHT
TZOFFSETFROM:-0500
TZOFFSETTO:-0400
TZNAME:EDT
DTSTART:20260308T070000
END:DAYLIGHT
BEGIN:STANDARD
TZOFFSETFROM:-0400
TZOFFSETTO:-0500
TZNAME:EST
DTSTART:20261101T060000
END:STANDARD
BEGIN:DAYLIGHT
TZOFFSETFROM:-0500
TZOFFSETTO:-0400
TZNAME:EDT
DTSTART:20270314T070000
END:DAYLIGHT
BEGIN:STANDARD
TZOFFSETFROM:-0400
TZOFFSETTO:-0500
TZNAME:EST
DTSTART:20271107T060000
END:STANDARD
END:VTIMEZONE
BEGIN:VTIMEZONE
TZID:America/Los_Angeles
BEGIN:DAYLIGHT
TZOFFSETFROM:-0800
TZOFFSETTO:-0700
TZNAME:PDT
DTSTART:20250309T100000
END:DAYLIGHT
BEGIN:STANDARD
TZOFFSETFROM:-0700
TZOFFSETTO:-0800
TZNAME:PST
DTSTART:20251102T090000
END:STANDARD
BEGIN:DAYLIGHT
TZOFFSETFROM:-0800
TZOFFSETTO:-0700
TZNAME:PDT
DTSTART:20260308T100000
END:DAYLIGHT
BEGIN:STANDARD
TZOFFSETFROM:-0700
TZOFFSETTO:-0800
TZNAME:PST
DTSTART:20261101T090000
END:STANDARD
BEGIN:DAYLIGHT
TZOFFSETFROM:-0800
TZOFFSETTO:-0700
TZNAME:PDT
DTSTART:20270314T100000
END:DAYLIGHT
BEGIN:STANDARD
TZOFFSETFROM:-0700
TZOFFSETTO:-0800
TZNAME:PST
DTSTART:20271107T090000
END:STANDARD
END:VTIMEZONE
BEGIN:VEVENT
DTSTART;TZID=America/New_York:20260321T193000
DTEND;TZID=America/New_York:20260321T213000
DTSTAMP:20260423T061306
CREATED:20260321T135534Z
LAST-MODIFIED:20260321T135534Z
UID:1569-1774121400-1774128600@netballamerica.com
SUMMARY:Member Virtual Bingo Fundraiser: Club Allyanze
DESCRIPTION:Inviting all supporters to get behind our member’s Bingo virtual and in person fundraiser.\nSee details on flyer and pre-registration is required.
URL:https://netballamerica.com/calendar/member-virtual-bingo-fundraiser-club-allyanze/
LOCATION:Virtual
CATEGORIES:Community Event
ATTACH;FMTTYPE=image/png:https://netballamerica.com/wp-content/uploads/2026/03/Club-Allyanze-fundraiser.png
END:VEVENT
BEGIN:VEVENT
DTSTART;TZID=America/Los_Angeles:20260326T090000
DTEND;TZID=America/Los_Angeles:20260326T100000
DTSTAMP:20260423T061306
CREATED:20260321T145043Z
LAST-MODIFIED:20260321T145250Z
UID:1583-1774515600-1774519200@netballamerica.com
SUMMARY:Virtual: Working with Parents to Understand Teen Mental Health
DESCRIPTION:Join Scott Bloom\, LCSW\, Director of Special Projects at the New York Psychotherapy and Counseling Center and former founding Director of School Mental Health Services for NYC Public Schools.\nIn this session\, Scott will provide a practical overview of youth mental health and the critical role parents and caregivers play in supporting young people. Drawing on decades of experience building school and community-based mental health systems\, he will explore common signs and symptoms\, address stigma\, and share strategies for engaging parents in meaningful and supportive conversations.\nParticipants will leave with a deeper understanding of how to identify when a young person may need support and how to connect families to resources within schools and local communities\, helping create stronger and more informed support systems around youth.
URL:https://netballamerica.com/calendar/working-with-parents-to-understand-teen-mental-health/
LOCATION:CA
CATEGORIES:Coach Training,Community Event
ATTACH;FMTTYPE=image/jpeg:https://netballamerica.com/wp-content/uploads/2025/02/Team-photo4.jpg
END:VEVENT
BEGIN:VEVENT
DTSTART;TZID=America/Los_Angeles:20260330T173000
DTEND;TZID=America/Los_Angeles:20260330T183000
DTSTAMP:20260423T061306
CREATED:20260321T141850Z
LAST-MODIFIED:20260321T145232Z
UID:1576-1774891800-1774895400@netballamerica.com
SUMMARY:Virtual: Elevate Your Health
DESCRIPTION:A great session for individual or clubs.  Learn about some healthy tips as you prepare for the upcoming sports season and hear about the technology we are using to help you on your way. \nWe are bringing to you a former Olympian and world class coach for this FREE session.
URL:https://netballamerica.com/calendar/elevate-your-health/
LOCATION:CA
CATEGORIES:Athlete Development,Coach Training,Community Event
ATTACH;FMTTYPE=image/jpeg:https://netballamerica.com/wp-content/uploads/2026/03/Elevate-Your-Health-Event-March-30.jpg
END:VEVENT
END:VCALENDAR